BEGIN:VCALENDAR
VERSION:2.0
PRODID:-//Jam Jah Sound - ECPv6.10.1.1//NONSGML v1.0//EN
CALSCALE:GREGORIAN
METHOD:PUBLISH
X-WR-CALNAME:Jam Jah Sound
X-ORIGINAL-URL:https://jamjahsound.com
X-WR-CALDESC:Events for Jam Jah Sound
REFRESH-INTERVAL;VALUE=DURATION:PT1H
X-Robots-Tag:noindex
X-PUBLISHED-TTL:PT1H
BEGIN:VTIMEZONE
TZID:Europe/London
BEGIN:DAYLIGHT
TZOFFSETFROM:+0000
TZOFFSETTO:+0100
TZNAME:BST
DTSTART:20250330T010000
END:DAYLIGHT
BEGIN:STANDARD
TZOFFSETFROM:+0100
TZOFFSETTO:+0000
TZNAME:GMT
DTSTART:20251026T010000
END:STANDARD
BEGIN:DAYLIGHT
TZOFFSETFROM:+0000
TZOFFSETTO:+0100
TZNAME:BST
DTSTART:20260329T010000
END:DAYLIGHT
BEGIN:STANDARD
TZOFFSETFROM:+0100
TZOFFSETTO:+0000
TZNAME:GMT
DTSTART:20261025T010000
END:STANDARD
END:VTIMEZONE
BEGIN:VEVENT
DTSTART;TZID=Europe/London:20250613T080000
DTEND;TZID=Europe/London:20250614T170000
DTSTAMP:20260421T165731
CREATED:20250323T131052Z
LAST-MODIFIED:20250602T105045Z
UID:2935-1749801600-1749920400@jamjahsound.com
SUMMARY:Clifftop Reggae Party - CANCELLED
DESCRIPTION:  \nSORRY TO ANNOUNCE THIS EVENT HAS UNFORTUNATELY BEEN CANCELLED\nOur favourite festival of the year with our good friends from Skarumba HiFi in the most beautiful location in Wales\, overlooking the sea. \nMad lineup including: \nSolo Banton (backed by Friendly Fire Band)\nVibronics\nRoots Garden\nThe Majestic\nJam Jah Sound\nTimbali\nMaxi Dread\nDa Fuchaman\nAfrikan Simba\nRoots HiTek \n…and so many more!! \n 
URL:https://jamjahsound.com/event/clifftop-reggae-party/
LOCATION:Clifftop Reggae\, Near Aberyswyth\, United Kingdom
CATEGORIES:Live shows
ATTACH;FMTTYPE=image/jpeg:https://jamjahsound.com/wp-content/uploads/2025/03/clifftop-2025.jpg
END:VEVENT
BEGIN:VEVENT
DTSTART;TZID=Europe/London:20250724T120000
DTEND;TZID=Europe/London:20250727T120000
DTSTAMP:20260421T165731
CREATED:20250709T120610Z
LAST-MODIFIED:20250723T171414Z
UID:3335-1753358400-1753617600@jamjahsound.com
SUMMARY:We Are Love Festival
DESCRIPTION:Jam Jah Sound is proud to announce that they will be performing on Saturday afternoon at the We Are Love Festival in the Chill Out Tent on the Saturday at 5pm \nCheck We Are Love website for more info! \n 
URL:https://jamjahsound.com/event/we-are-love-festival/
LOCATION:Bentley Estate\, Ringmere\, East Sussex\, United Kingdom
CATEGORIES:Live shows
ATTACH;FMTTYPE=image/png:https://jamjahsound.com/wp-content/uploads/2025/07/Screenshot-2025-07-09-at-13.01.03.png
END:VEVENT
BEGIN:VEVENT
DTSTART;TZID=Europe/London:20250821T080000
DTEND;TZID=Europe/London:20250824T170000
DTSTAMP:20260421T165731
CREATED:20250323T132240Z
LAST-MODIFIED:20250323T132403Z
UID:2941-1755763200-1756054800@jamjahsound.com
SUMMARY:Shambala Festival 2025
DESCRIPTION:Jam Jah Sound co-run the Roots Corner at Shambala Festival and will be performing throughout the weekend.
URL:https://jamjahsound.com/event/shambala-festival-2025/
LOCATION:Kelmarsh Halls and Garden\, Northampton\, NORTHANTS\, Kelmarsh\, https://kelmarsh.com/\, NN6 9LY\, United Kingdom
CATEGORIES:Live shows
ATTACH;FMTTYPE=image/jpeg:https://jamjahsound.com/wp-content/uploads/2025/03/roots-corner-e1742735886211.jpg
END:VEVENT
BEGIN:VEVENT
DTSTART;TZID=Europe/London:20250904T220000
DTEND;TZID=Europe/London:20250905T003000
DTSTAMP:20260421T165732
CREATED:20250901T112320Z
LAST-MODIFIED:20250901T114237Z
UID:3538-1757023200-1757032200@jamjahsound.com
SUMMARY:NAYYAH live with Fire Culture Band ft. Jam Jah Sound
DESCRIPTION:ITS THE UNOFFICIAL LEGEND BOB MARLEY AFTER PARTY \n\n\nITS A ONE OF A KIND EVENT\n\nDon’t miss Club 147 Reggae Night Presented to you by Nayyah & The Fure Culture Band \n\n\nMusic to get you on the dance floor all night long as “JAM HAH SOUND” Robin Don X Bongo Damo bring your the best of all thing Reggae \n\n\n\n One47 is the party venue Thursday 4th September! Don’t miss this one of a kind night\n\nJam Jah Sound willl be supporting NAYYAH & The Fire Culture Band Live \nall the way in Wales at the One47 Club \n 
URL:https://jamjahsound.com/event/nayyah-live-with-fire-culture-band-ft-jam-jah-sound/
LOCATION:One47\, 141 Mostyn St\,\, Llandudno\, Wales\, LL30 2PE
CATEGORIES:Live shows
ATTACH;FMTTYPE=image/png:https://jamjahsound.com/wp-content/uploads/2025/09/Screenshot-2025-09-01-at-12.13.01.png
END:VEVENT
BEGIN:VEVENT
DTSTART;TZID=Europe/London:20250921T073000
DTEND;TZID=Europe/London:20250921T073000
DTSTAMP:20260421T165732
CREATED:20250728T101150Z
LAST-MODIFIED:20250922T140339Z
UID:3422-1758439800-1758439800@jamjahsound.com
SUMMARY:Jam Jah Sound & Gyro Sound @ Vinyl Sundays - Watch Again!
DESCRIPTION:Full crew at  Vinyl Sundays  for a night of revive party tunes\, alongside Gyro Sound- \nA great time was had by all\, with great selections all along and upful vibes. \nWatch again: \n\nMore details to come soon \nFree Entry\, Food Served all night\, streamed live on: \nhttps://www.youtube.com/@valtino6226
URL:https://jamjahsound.com/event/jam-jah-sound-vinyl-sundays/
LOCATION:One Six Three Lounge\, 163 Reservoir Road\, Erdington\, B23 6DN\, United Kingdom
CATEGORIES:Live shows,Online Live Stream
ATTACH;FMTTYPE=image/jpeg:https://jamjahsound.com/wp-content/uploads/2025/07/jam-jah-vinyl-sundays-listen-again.jpg
END:VEVENT
BEGIN:VEVENT
DTSTART;TZID=Europe/London:20251106T200000
DTEND;TZID=Europe/London:20251107T000000
DTSTAMP:20260421T165732
CREATED:20250122T122558Z
LAST-MODIFIED:20250122T132214Z
UID:2641-1762459200-1762473600@jamjahsound.com
SUMMARY:Omega Nebula (support by Jam Jah Sound)
DESCRIPTION:OMEGA NEBULA return this Autumn with an explosive live/electronic show\, that transcends the boundaries of traditional Dub and Reggae\, with support from Jam Jah Sound.\nOMEGA NEBULA return this Autumn with an explosive live/electronic show\, that transcends the boundaries of traditional dub and reggae. Join them in the dance for your next dose musical healing. \nAn exhilarating fusion of DUB REGGAE and DANCE music has made them the hottest of topics amongst Sound System enthusiasts and festival revellers – after a jam packed 2024\, OMEGA NEBULA are bringing their brand new live show to a city near you!! \nFrom gigantic grooves that make your body move to soul-stirring melodies that linger long in the memory\, every second of their selection is a symphony of innovation and sonic mastery. \nThe UK’s en Vogue DYNAMIC DUB DUO are set to vibrate your soul with huge bass and unmatchable vibes! \nSupport from JAM JAH SOUND \n🔥 Don’t miss out on this incredible night of music! 🔥 \n—————————————————— \nP.S Would you like 10% off our entire online store? Would you like to receive every track we release for free? Click ‘Opt In’ when you order tickets\, to sign up to our mailing list. We promise we won’t bombard you! Big ups 🕺💃🏽
URL:https://jamjahsound.com/event/omega-nebula-support-by-jam-jah-sound/
LOCATION:Hare & Hounds\, 106 Kings Heath High\, Birmingham\, B14 7JZ
CATEGORIES:Live shows
ATTACH;FMTTYPE=image/png:https://jamjahsound.com/wp-content/uploads/2025/01/Screenshot-2025-01-22-at-12.22.03.png
END:VEVENT
BEGIN:VEVENT
DTSTART;TZID=Europe/London:20251121T160000
DTEND;TZID=Europe/London:20251121T220000
DTSTAMP:20260421T165732
CREATED:20251117T205454Z
LAST-MODIFIED:20251118T121325Z
UID:3810-1763740800-1763762400@jamjahsound.com
SUMMARY:Jamaica Land We Love - Hurricane Benefit Gig
DESCRIPTION:This one is to raise money for Hurricane Melissa Relief in Jamaica after the devastation caused by the storm a few weeks ago. \nDonations will be collected on the door\, drop off for essential items. \n\nNuff DJs including Jam Jah Sound / Chaka Finchos / Action Pack and more…\nBob Marley Tribute band live on stage.\n\nFood by the Caribbean Carvery.
URL:https://jamjahsound.com/event/jamaica-land-we-love-hurricane-benefit-gig/
LOCATION:Electric Daisy\, 1-4 Bold Lane\, Derby\, DE1 3NT\, United Kingdom
CATEGORIES:Live shows
ATTACH;FMTTYPE=image/jpeg:https://jamjahsound.com/wp-content/uploads/2025/11/hurricane-releif.jpeg
END:VEVENT
BEGIN:VEVENT
DTSTART;TZID=Europe/London:20251213T183000
DTEND;TZID=Europe/London:20251213T213000
DTSTAMP:20260421T165732
CREATED:20251202T162318Z
LAST-MODIFIED:20251202T163232Z
UID:3868-1765650600-1765661400@jamjahsound.com
SUMMARY:Hurricane Appeal Concert
DESCRIPTION:Action Pack Sound presents: \nHurricane Appeal Concert\nHosted by Jacko Melody With Jam Jah Sound\, Claire Angel\, and many more\, in the iconic St Stephens Church. \nDJs adn Entertainment on the day from 18.30 -21.30 \nJamaican Dining Club \n  \n 
URL:https://jamjahsound.com/event/3868/
LOCATION:St Stephensons Church\, Redditch\, B87 4DY
CATEGORIES:Live shows
ATTACH;FMTTYPE=image/jpeg:https://jamjahsound.com/wp-content/uploads/2025/11/160action-pack-hurricane-e1764692268664.jpg
END:VEVENT
BEGIN:VEVENT
DTSTART;TZID=Europe/London:20260118T200000
DTEND;TZID=Europe/London:20260118T233000
DTSTAMP:20260421T165732
CREATED:20260111T170509Z
LAST-MODIFIED:20260119T153151Z
UID:3999-1768766400-1768779000@jamjahsound.com
SUMMARY:Vinyl Sundays ft. Jam Jah Sound & Hatman - watch again!
DESCRIPTION:Vinyl Sundays with Hatman and Jam Jah Sound at the 163 was a vibe\, with Hatman playing some tuff tunes alongside Heala and Robbie Don with Myki bringing pure jokes! Big respect to all the team: Valentino\, Buzrock\, Bogles\, Jenni P.. \nWatch again below\, don’t forget to subscribe to the YouTube  page! \n_______ \nJam Jah Sound comes to One Six Three lounge for a vinyl sunday\, streamed live: \nWatch Live Stream \n\n\n 
URL:https://jamjahsound.com/event/vinyl-sundays-ft-jam-jah-sound-2/
LOCATION:One Six Three Lounge\, 163 Reservoir Road\, Erdington\, B23 6DN\, United Kingdom
CATEGORIES:Live shows,Online Live Stream
ATTACH;FMTTYPE=image/jpeg:https://jamjahsound.com/wp-content/uploads/2026/01/vinyl-sundays-2026.jpeg
END:VEVENT
BEGIN:VEVENT
DTSTART;TZID=Europe/London:20260123T120000
DTEND;TZID=Europe/London:20260126T000000
DTSTAMP:20260421T165732
CREATED:20260112T170855Z
LAST-MODIFIED:20260112T170855Z
UID:4007-1769169600-1769385600@jamjahsound.com
SUMMARY:SUB CAMP
DESCRIPTION:Bongo Damo will be repping Jam Jah Sound in Thailand at Sub Camp alongside\, OBF\, Iration Steppas\, Sunai Sound and many more… \n  \nMore info: \nhttps://www.instagram.com/subcamp_thailand/reel/DTPH3hXgftK/ \n  \n 
URL:https://jamjahsound.com/event/sub-camp/
LOCATION:Bamboo Base Camping – Thailand\, Thailand
CATEGORIES:Live shows
ATTACH;FMTTYPE=image/jpeg:https://jamjahsound.com/wp-content/uploads/2026/01/subcamp.jpeg
END:VEVENT
BEGIN:VEVENT
DTSTART;TZID=Europe/London:20260228T150000
DTEND;TZID=Europe/London:20260228T230000
DTSTAMP:20260421T165732
CREATED:20260119T171928Z
LAST-MODIFIED:20260119T172112Z
UID:4035-1772290800-1772319600@jamjahsound.com
SUMMARY:Bromsgrove Reggae Sessions: Lime Grove x Segweh x Jam Jah Sound
DESCRIPTION:The first edition of Bromsgrove Reggae Sessions powered by the mighty LIMEGROVE SOUND \nFamily Friendly Event ft Moseley’s Jam Jah Sound and Segweh\, \n  \n3pm-11pm \nAdults : £7.50 / Kids:/  £4 Families : £20
URL:https://jamjahsound.com/event/bromsgrove-reggae-sessions-lime-grove-x-segweh-x-jam-jah-sound/
LOCATION:Lickey End Social Club\, Bromsgrove\, United Kingdom
CATEGORIES:Live shows
ATTACH;FMTTYPE=image/jpeg:https://jamjahsound.com/wp-content/uploads/2026/01/lime-grove-dance-feb-e1768842659695.jpeg
END:VEVENT
BEGIN:VEVENT
DTSTART;TZID=Europe/London:20260322T120000
DTEND;TZID=Europe/London:20260322T200000
DTSTAMP:20260421T165732
CREATED:20260223T135154Z
LAST-MODIFIED:20260223T135400Z
UID:4140-1774180800-1774209600@jamjahsound.com
SUMMARY:Reggae at the Runout - UK Labels Vinyl Record Fair
DESCRIPTION:Reggae at the Runout is a vinyl label’s record fair where you will get the chance to browse through the catalogs of some of UK’s legendary Reggae labels\, and some more recent ones like Shaolin Sound  and Friendly Fire Music\,  at Peckham Levels. \nReggae @ The Run Out is more than just a vinyl market — it’s a celebration of reggae culture\, community\, and sound system heritage. \n@the_great_soul_soundsystem will be setting the soundtrack\, creating an authentic reggae atmosphere from start to finish. \nThe event will also be live streamed on @eruptionradiouk spreading the vibes beyond the venue. \nSpecial guest artists will be passing through to jump on the mic\, adding live energy to the session. \nWe’re also welcoming respected authors from the reggae music industry\, who will be talking about their books and sharing insights into the culture\, history\, and business of reggae music. \nThis is a family-friendly event\, so bring everyone along and enjoy the experience together. \n🕛 Vinyl Market: 12PM – 5PM\n🎶 Music continues until 8PM\n🍴 Food and drinks available all day @jamjahsound @el_presidente_international @mr.vee.sound @dj_dansey @963tien @poorhouserockers @princessnadene_ @dubplate_pearl @mrswingeasy @keithgussyyoung @culturej_ & sis nam ❤️💛💚 #reggaerunout #vinylonly #vinyl #dj
URL:https://jamjahsound.com/event/reggae-at-the-runout-uk-labels-vinyl-record-fair/
LOCATION:Peckham Levels\, 95A Rye Lane\, London\, SE15 4ST\, United Kingdom
CATEGORIES:Live shows
ATTACH;FMTTYPE=image/png:https://jamjahsound.com/wp-content/uploads/2026/02/Screenshot-2026-02-23-at-11.36.59.png
END:VEVENT
BEGIN:VEVENT
DTSTART;TZID=Europe/London:20260402T193000
DTEND;TZID=Europe/London:20260402T233000
DTSTAMP:20260421T165732
CREATED:20260306T170457Z
LAST-MODIFIED:20260306T170824Z
UID:4197-1775158200-1775172600@jamjahsound.com
SUMMARY:Wi Jammin - Richie Culture & The Visionaries / Jam Jah Sound / DJ Dunk
DESCRIPTION:Richie Culture and the Visionaries live on stage with support from Jam Jah Sound and DJ Dunk. \n\n  \n 
URL:https://jamjahsound.com/event/wi-jammin-richie-culture-the-visionnaries-jam-jah-sound-dj-dunk/
LOCATION:Hare & Hounds\, 106 Kings Heath High\, Birmingham\, B14 7JZ
CATEGORIES:Live shows
ATTACH;FMTTYPE=image/jpeg:https://jamjahsound.com/wp-content/uploads/2026/03/richie-culture-may.jpg
END:VEVENT
BEGIN:VEVENT
DTSTART;TZID=Europe/London:20260417T190000
DTEND;TZID=Europe/London:20260418T000000
DTSTAMP:20260421T165733
CREATED:20260121T165832Z
LAST-MODIFIED:20260121T173628Z
UID:4059-1776452400-1776470400@jamjahsound.com
SUMMARY:Dub On Tap
DESCRIPTION:Friday 17 April\n Stroud Brewery Balcony Bar\n Dub On Tap event \nDub On Tap returns in April with a very special session featuring Jam Jah Sound\, one of the most enduring and respected institutions in UK sound system culture. \nJam Jah Sound is the live sound system arm of Friendly Fire Music\, best known for running Jam Jah Mondays – Europe’s longest-running weekly reggae sound system session\, held every single Monday in Birmingham since 2001. For over two decades\, Jam Jah have built a reputation for consistency\, warmth\, and deep musical knowledge\, hosting special guests from across the global reggae sound system fraternity. \nWhat sets Jam Jah Sound apart is their live approach – blending heavyweight selections with live MCs and percussion\, creating a dynamic\, roots-driven experience that feels as close to the foundations of the culture as it gets. Their sessions are relaxed\, welcoming\, and deeply inclusive – spaces where everyone is invited to dance\, connect\, and leave their worries at the door. \nBeyond their legendary Birmingham residency\, Jam Jah Sound have taken their vibrations to venues and festivals around the world\, carrying with them a message of unity\, culture\, and community through music. \nFeaturing\nRobbie Don\nFounder of Friendly Fire Music and the driving force behind Jam Jah Sound. A producer\, guitarist\, selecta\, and engineer\, Robbie Don creates Jam Jah’s remixes and dubplates from his Friendly Dubs studio\, shaping the sound’s unmistakable identity. \nBongo Damo\nFounding member of Jam Jah Sound\, selecta and percussionist. Alongside his deep musical knowledge\, Bongo Damo plays live percussion on the sound\, teaches African drumming and drumkit\, and is the drummer for Friendly Fire Band as well as a respected session musician. \nMyki Tuff\nA legendary Midlands mic man\, Myki Tuff cut his teeth on Birmingham sound systems including Orthodox and Wassifa\, earning the title of Best Midlands MC in the 1990s. After touring the world as a bass player with artists such as Dennis Brown\, Tippa Irie\, and Elephant Man\, he returned to the mic in 2017\, joining Jam Jah Sound and Friendly Fire Band and releasing new material. \nAll of this will be powered by the mighty Valley Steppas Sound System\, bringing warmth\, weight\, and conscious vibration to the Balcony Bar. \nThis one is for the lovers of real roots reggae\, live sound system energy\, and the kind of sessions that remind you why this culture exists in the first place. \nCome early. Stay late. Let the music do the rest.
URL:https://jamjahsound.com/event/dub-on-tap/
LOCATION:Stroud Brewery\, Kingfisher Business Park\, Thrupp |\, Stroud\, GL5 2B\, United Kingdom
CATEGORIES:Live shows
ATTACH;FMTTYPE=image/jpeg:https://jamjahsound.com/wp-content/uploads/2026/01/flyer-dub-on-tap.jpg
END:VEVENT
BEGIN:VEVENT
DTSTART;TZID=Europe/London:20260524T213000
DTEND;TZID=Europe/London:20260525T023000
DTSTAMP:20260421T165733
CREATED:20260219T113151Z
LAST-MODIFIED:20260412T100319Z
UID:4135-1779658200-1779676200@jamjahsound.com
SUMMARY:Reggae Gold
DESCRIPTION:Birmingham’s Annual Classy Reggae Celebration returns… \nReggae G O L D – Bank Holiday Sunday 24th May 2026 \n \n@ The Royal Banqueting Suite\, The Birmingham Council House\, Victoria Square\, Birmingham\, B1 1BB.\nReggae Specialists \n🟡 Seani B (BBC Radio 1Xtra) \n🟡 Wassifa Showcase \n🟡 Love Injection Music \n🟡 DJ Demz \n🟡 Simz Dat Guy \n🟡 Jam Jah Sound \nIntroducing R&B G O L D \n80’s & 90’s classic R&B with: \n🟡 Marc Ryder \nMay Birthdays: Limited free entry guest list.\nTimes: 9.30pm – 3.00am. \nDress code – Formal & Elegant. This is an event for the grown… no sportswear of any kind. \nMusic Policy: Reggae / 90s Dancehall / Lovers Rock / 80s & 90s R&B. \nTickets: WWW.REGGAEGOLD.CO.UK \nBirthdays/Info/Tables: 07841 991 386/07988 742 992
URL:https://jamjahsound.com/event/reggae-gold-2/
LOCATION:The Royal Banqueting Suite (Birmingham Council House).\, Birmingham\, United Kingdom
CATEGORIES:Live shows
ATTACH;FMTTYPE=image/jpeg:https://jamjahsound.com/wp-content/uploads/2026/02/reggae-gold-26.jpg
END:VEVENT
END:VCALENDAR