BEGIN:VCALENDAR
VERSION:2.0
PRODID:-//Jam Jah Sound - ECPv6.10.1.1//NONSGML v1.0//EN
CALSCALE:GREGORIAN
METHOD:PUBLISH
X-ORIGINAL-URL:https://jamjahsound.com
X-WR-CALDESC:Events for Jam Jah Sound
REFRESH-INTERVAL;VALUE=DURATION:PT1H
X-Robots-Tag:noindex
X-PUBLISHED-TTL:PT1H
BEGIN:VTIMEZONE
TZID:Europe/London
BEGIN:DAYLIGHT
TZOFFSETFROM:+0000
TZOFFSETTO:+0100
TZNAME:BST
DTSTART:20250330T010000
END:DAYLIGHT
BEGIN:STANDARD
TZOFFSETFROM:+0100
TZOFFSETTO:+0000
TZNAME:GMT
DTSTART:20251026T010000
END:STANDARD
END:VTIMEZONE
BEGIN:VEVENT
DTSTART;TZID=Europe/London:20250706T130000
DTEND;TZID=Europe/London:20250706T143000
DTSTAMP:20260421T110913
CREATED:20250515T130345Z
LAST-MODIFIED:20250515T130345Z
UID:3136-1751806800-1751812200@jamjahsound.com
SUMMARY:The Godfather interviews Jam Jah Sound live on Skyline Radio
DESCRIPTION:Tune in to Skyline Radio from 1pm onwards on the 6th July 25 for an exclusive in depth interview with Bongo Damo\, Myki Tuff and Robbie Don about all things Jam Jah. \nTUNE IN TO SKYLINE RADIO
URL:https://jamjahsound.com/event/the-godfather-interviews-jam-jah-sound-live-on-skyline-radio/
LOCATION:Skyline Radio\, United Kingdom
CATEGORIES:Online Live Stream
ATTACH;FMTTYPE=image/jpeg:https://jamjahsound.com/wp-content/uploads/2025/05/godfather-interview-skyline.jpeg
END:VEVENT
END:VCALENDAR